BEGIN:VCALENDAR
VERSION:2.0
PRODID:-//Sabre//Sabre VObject 4.5.7//EN
CALSCALE:GREGORIAN
BEGIN:VEVENT
UID:sabre-vobject-fb02a96c-c84b-423b-aaf9-5fac804161f7
DTSTAMP:20260423T142014Z
SUMMARY:FÄLLT HEUTE AUS! - Seniorennachmittag im Gemeindehaus
DTSTART;TZID=Europe/Berlin:20260513T150000
DTEND;TZID=Europe/Berlin:20260513T170000
ORGANIZER;CN=Ev.-Luth. Kirchengemeinde Gettorf:MAILTO:kirchenbuero-gettorf@
 kkre.de
LOCATION:Gemeindehaus\, Pastorengang 11\, Gettorf
GEO:54.4105727;9.9730855
DESCRIPTION:mit Pastor Boysen & Pastor Ströh
BEGIN:VALARM
TRIGGER;VALUE=DURATION:P1D
ACTION:DISPLAY
DESCRIPTION:FÄLLT HEUTE AUS! - Seniorennachmittag im Gemeindehaus
END:VALARM
END:VEVENT
END:VCALENDAR
